BEGIN:VCALENDAR
VERSION:2.0
PRODID:-//BROTHER DAVE - ECPv6.15.20//NONSGML v1.0//EN
CALSCALE:GREGORIAN
METHOD:PUBLISH
X-WR-CALNAME:BROTHER DAVE
X-ORIGINAL-URL:https://brotherdaveblues.com
X-WR-CALDESC:Events for BROTHER DAVE
REFRESH-INTERVAL;VALUE=DURATION:PT1H
X-Robots-Tag:noindex
X-PUBLISHED-TTL:PT1H
BEGIN:VTIMEZONE
TZID:America/New_York
BEGIN:DAYLIGHT
TZOFFSETFROM:-0500
TZOFFSETTO:-0400
TZNAME:EDT
DTSTART:20250309T070000
END:DAYLIGHT
BEGIN:STANDARD
TZOFFSETFROM:-0400
TZOFFSETTO:-0500
TZNAME:EST
DTSTART:20251102T060000
END:STANDARD
BEGIN:DAYLIGHT
TZOFFSETFROM:-0500
TZOFFSETTO:-0400
TZNAME:EDT
DTSTART:20260308T070000
END:DAYLIGHT
BEGIN:STANDARD
TZOFFSETFROM:-0400
TZOFFSETTO:-0500
TZNAME:EST
DTSTART:20261101T060000
END:STANDARD
BEGIN:DAYLIGHT
TZOFFSETFROM:-0500
TZOFFSETTO:-0400
TZNAME:EDT
DTSTART:20270314T070000
END:DAYLIGHT
BEGIN:STANDARD
TZOFFSETFROM:-0400
TZOFFSETTO:-0500
TZNAME:EST
DTSTART:20271107T060000
END:STANDARD
END:VTIMEZONE
BEGIN:VEVENT
DTSTART;TZID=America/New_York:20260118T170000
DTEND;TZID=America/New_York:20260118T210000
DTSTAMP:20260422T170605
CREATED:20260116T025704Z
LAST-MODIFIED:20260116T030315Z
UID:4554-1768755600-1768770000@brotherdaveblues.com
SUMMARY:Duo with Andy Ward at Bacaro Italian Tavern
DESCRIPTION:
URL:https://brotherdaveblues.com/event/duo-with-andy-ward-at-bacaro-italian-tavern/
LOCATION:Bacaro Italian Tavern\, 1020 Park Blvd.\, Massapequa\, NY\, 11762\, United States
END:VEVENT
BEGIN:VEVENT
DTSTART;TZID=America/New_York:20260121T183000
DTEND;TZID=America/New_York:20260121T213000
DTSTAMP:20260422T170605
CREATED:20260116T025311Z
LAST-MODIFIED:20260116T030310Z
UID:4549-1769020200-1769031000@brotherdaveblues.com
SUMMARY:OPEN MIC Hosted By BROTHER DAVE
DESCRIPTION:
URL:https://brotherdaveblues.com/event/open-mic-hosted-by-brother-dave/
LOCATION:Garden Grill\, 64 North Country Rd.\, Smithtown\, NY\, 11787\, United States
END:VEVENT
BEGIN:VEVENT
DTSTART;TZID=America/New_York:20260123T190000
DTEND;TZID=America/New_York:20260123T220000
DTSTAMP:20260422T170605
CREATED:20260116T025551Z
LAST-MODIFIED:20260116T030305Z
UID:4551-1769194800-1769205600@brotherdaveblues.com
SUMMARY:BROTHER DAVE - Solo - BLISS RESTAURANT
DESCRIPTION:
URL:https://brotherdaveblues.com/event/brother-dave-solo-bliss-restaurant/
LOCATION:Bliss Restaurant\, 766 Route 25A\, East Setauket\, NY\, 11733\, United States
END:VEVENT
BEGIN:VEVENT
DTSTART;TZID=America/New_York:20260130T183000
DTEND;TZID=America/New_York:20260130T213000
DTSTAMP:20260422T170605
CREATED:20260130T204143Z
LAST-MODIFIED:20260130T204210Z
UID:4594-1769797800-1769808600@brotherdaveblues.com
SUMMARY:GRATEFUL HEADS  with Marty Kearns & Brother Dave at PROST GARDEN & GRILL
DESCRIPTION:
URL:https://brotherdaveblues.com/event/grateful-heads-at-prost-garden-grill/
LOCATION:Prost Grill & Garten\, 652 Franklin Avenue Garden City\, NY (516)427-5656\, Garden City\, NY\, United States
END:VEVENT
END:VCALENDAR