BEGIN:VCALENDAR
VERSION:2.0
PRODID:-//BROTHER DAVE - ECPv6.15.20//NONSGML v1.0//EN
CALSCALE:GREGORIAN
METHOD:PUBLISH
X-ORIGINAL-URL:https://brotherdaveblues.com
X-WR-CALDESC:Events for BROTHER DAVE
REFRESH-INTERVAL;VALUE=DURATION:PT1H
X-Robots-Tag:noindex
X-PUBLISHED-TTL:PT1H
BEGIN:VTIMEZONE
TZID:America/New_York
BEGIN:DAYLIGHT
TZOFFSETFROM:-0500
TZOFFSETTO:-0400
TZNAME:EDT
DTSTART:20250309T070000
END:DAYLIGHT
BEGIN:STANDARD
TZOFFSETFROM:-0400
TZOFFSETTO:-0500
TZNAME:EST
DTSTART:20251102T060000
END:STANDARD
BEGIN:DAYLIGHT
TZOFFSETFROM:-0500
TZOFFSETTO:-0400
TZNAME:EDT
DTSTART:20260308T070000
END:DAYLIGHT
BEGIN:STANDARD
TZOFFSETFROM:-0400
TZOFFSETTO:-0500
TZNAME:EST
DTSTART:20261101T060000
END:STANDARD
BEGIN:DAYLIGHT
TZOFFSETFROM:-0500
TZOFFSETTO:-0400
TZNAME:EDT
DTSTART:20270314T070000
END:DAYLIGHT
BEGIN:STANDARD
TZOFFSETFROM:-0400
TZOFFSETTO:-0500
TZNAME:EST
DTSTART:20271107T060000
END:STANDARD
END:VTIMEZONE
BEGIN:VEVENT
DTSTART;TZID=America/New_York:20260410T190000
DTEND;TZID=America/New_York:20260410T220000
DTSTAMP:20260422T201359
CREATED:20260404T154100Z
LAST-MODIFIED:20260404T154100Z
UID:4709-1775847600-1775858400@brotherdaveblues.com
SUMMARY:BROTHER DAVE ~ LIVE at Bliss Restaurant
DESCRIPTION:
URL:https://brotherdaveblues.com/event/brother-dave-live-at-bliss-restaurant/
LOCATION:Bliss Restaurant\, 766 Route 25A\, East Setauket\, NY\, 11733\, United States
END:VEVENT
BEGIN:VEVENT
DTSTART;TZID=America/New_York:20260411T210000
DTEND;TZID=America/New_York:20260412T000000
DTSTAMP:20260422T201359
CREATED:20260407T165415Z
LAST-MODIFIED:20260407T165415Z
UID:4711-1775941200-1775952000@brotherdaveblues.com
SUMMARY:PEDAL STEEL with "DAYBREAK" at Lucinda's Bar in NYC
DESCRIPTION:
URL:https://brotherdaveblues.com/event/pedal-steel-with-daybreak-at-lucindas-bar-in-nyc/
LOCATION:Lucinda’s Bar\, 169 Avenue A\, New York\, NY\, 10009\, United States
END:VEVENT
BEGIN:VEVENT
DTSTART;TZID=America/New_York:20260424T193000
DTEND;TZID=America/New_York:20260424T223000
DTSTAMP:20260422T201359
CREATED:20260311T014050Z
LAST-MODIFIED:20260419T183115Z
UID:4648-1777059000-1777069800@brotherdaveblues.com
SUMMARY:Brother Dave - Solo - PROST GRILL & GARTEN
DESCRIPTION:
URL:https://brotherdaveblues.com/event/brother-dave-solo-prost-grill-garden/
LOCATION:Prost Grill & Garten\, 652 Franklin Avenue Garden City\, NY (516)427-5656\, Garden City\, NY\, United States
END:VEVENT
BEGIN:VEVENT
DTSTART;TZID=America/New_York:20260503T130000
DTEND;TZID=America/New_York:20260503T160000
DTSTAMP:20260422T201359
CREATED:20260419T182421Z
LAST-MODIFIED:20260419T182421Z
UID:4737-1777813200-1777824000@brotherdaveblues.com
SUMMARY:BROTHER DAVE ~ Live at PETE'S TAVERNA
DESCRIPTION:
URL:https://brotherdaveblues.com/event/brother-dave-live-at-petes-taverna/
LOCATION:Pete’s Taverna\, 3225 Sound Avenue\, Riverhead\, NY\, United States
END:VEVENT
BEGIN:VEVENT
DTSTART;TZID=America/New_York:20260506T180000
DTEND;TZID=America/New_York:20260506T220000
DTSTAMP:20260422T201359
CREATED:20260419T182531Z
LAST-MODIFIED:20260419T182531Z
UID:4740-1778090400-1778104800@brotherdaveblues.com
SUMMARY:DOUBLE-BOOKED (Andy Ward/Brother Dave Duo) ~ BACARO ITALIAN TAVERN
DESCRIPTION:
URL:https://brotherdaveblues.com/event/double-booked-andy-ward-brother-dave-duo-bacaro-italian-tavern-2/
LOCATION:Bacaro Italian Tavern\, 1020 Park Blvd.\, Massapequa\, NY\, 11762\, United States
END:VEVENT
BEGIN:VEVENT
DTSTART;TZID=America/New_York:20260508T190000
DTEND;TZID=America/New_York:20260508T220000
DTSTAMP:20260422T201359
CREATED:20260419T182650Z
LAST-MODIFIED:20260419T182650Z
UID:4742-1778266800-1778277600@brotherdaveblues.com
SUMMARY:BROTHER DAVE - Solo - BLISS RESTAURANT
DESCRIPTION:
URL:https://brotherdaveblues.com/event/brother-dave-solo-bliss-restaurant-2/
LOCATION:Bliss Restaurant\, 766 Route 25A\, East Setauket\, NY\, 11733\, United States
END:VEVENT
BEGIN:VEVENT
DTSTART;VALUE=DATE:20260509
DTEND;VALUE=DATE:20260510
DTSTAMP:20260422T201359
CREATED:20260419T182732Z
LAST-MODIFIED:20260419T182732Z
UID:4744-1778284800-1778371199@brotherdaveblues.com
SUMMARY:PRIVATE PARTY
DESCRIPTION:
URL:https://brotherdaveblues.com/event/private-party-2/
LOCATION:NY
END:VEVENT
BEGIN:VEVENT
DTSTART;TZID=America/New_York:20260513T183000
DTEND;TZID=America/New_York:20260513T213000
DTSTAMP:20260422T201359
CREATED:20260419T182822Z
LAST-MODIFIED:20260419T182822Z
UID:4747-1778697000-1778707800@brotherdaveblues.com
SUMMARY:OPEN MIC - GARDEN GRILL
DESCRIPTION:
URL:https://brotherdaveblues.com/event/open-mic-garden-grill-3/
LOCATION:Garden Grill\, 64 North Country Rd.\, Smithtown\, NY\, 11787\, United States
END:VEVENT
BEGIN:VEVENT
DTSTART;TZID=America/New_York:20260522T193000
DTEND;TZID=America/New_York:20260522T230000
DTSTAMP:20260422T201359
CREATED:20260419T183021Z
LAST-MODIFIED:20260419T183021Z
UID:4749-1779478200-1779490800@brotherdaveblues.com
SUMMARY:BROTHER DAVE ~ SOLO ~ PROST GRILL & GARTEN
DESCRIPTION:
URL:https://brotherdaveblues.com/event/brother-dave-solo-prost-grill-garten/
LOCATION:Prost Grill & Garten\, 652 Franklin Avenue Garden City\, NY (516)427-5656\, Garden City\, NY\, United States
END:VEVENT
END:VCALENDAR